BEGIN:VCALENDAR
VERSION:2.0
PRODID:-//GoEmprende Business Angels - ECPv4.3.2//NONSGML v1.0//EN
CALSCALE:GREGORIAN
METHOD:PUBLISH
X-WR-CALNAME:GoEmprende Business Angels
X-ORIGINAL-URL:http://goemprende.com
X-WR-CALDESC:Events for GoEmprende Business Angels
BEGIN:VEVENT
DTSTART;TZID=UTC+0:20161111T093000
DTEND;TZID=UTC+0:20161111T140000
DTSTAMP:20260422T183126
CREATED:20161107T164907Z
LAST-MODIFIED:20161107T165326Z
UID:5100-1478856600-1478872800@goemprende.com
SUMMARY:Foro Albacete
DESCRIPTION:V FORO DE INVERSIÓN GOEMPRENDE BUSINESS ANGELS EN ALBACETE\n\nGoEmprende Business Angels celebra el V Foro de Inversión\, que tendrá lugar el próximo vienres 11 de noviembre a las 10.00 horas en el Campus de Albacete (salón de Actos del Edificio Benjamín Palencia de la Escuela de Humanidades y Enfermería)\, donde se tendrá ocasión de conocer  proyectos de inversión.\n\nEn la jornada tendrá lugar la charla sobre su experiencia como emprendedor y business angelpor parte de Raúl Mata\, Fundador de MyAlert\, su primera compañía (empresa que fue lanzada a Bolsa en Milán en 2002) y actualmente en eGauss un Business Holding de empresas I+T creadas junto con investigadores y emprendedores de reconocido prestigio. En el año 2015 recibe el Premio a la Trayectoria Business Angels en España.\nPosteriormente tendremos más intervenciones por parte de importantes inversores del ecosistema de las startups entre los que se encuentran Carlos Martínez fundador de M&Partners que acabo en la primera posición en el ranking absoluto de abogados por número de operaciones asesoradas en España en el año 2015  Manuel Moreno del Grupo Zeta que realiza inversiones media for equity como en el caso de Wallapop y Enrique Penichet fundador Sinensis Seed Capital & BBooster.\nEn el foro de inversión también asistirán otros inversores y varios business angels.\n\nLas startups tendrán 5 minutos para presentar ante un nutrido grupo de inversores privados\, fondos de capital riesgo\, business angels\, los mentores y el equipo de GoEmprende Business Angels.\n\nLos inversores asistentes al foro tendrán la oportunidad de conocer las nuevas tendencias\, nuevos proyectos y establecer un primer contacto con aquellos proyectos en los que estén interesados.\n\nPROGRAMA\n\n09:30 Acreditación y Recepción de asistentes.\n10:00 Inauguración y Presentación del V Foro de Inversión GoEmprende Business Angels.\n10:15 Charla de Raúl Matas "De emprendedor a inversor".\n10:45 Manuel Moreno Grupo Zeta. "Media for Equity como alternativa de Inversión".\n11:15 Foro de inversión: Pitch de proyectos.\n11:45 Carlos Martínez. "Invirtiendo en Startups".\n12:15 Enrique Penichet. Sinensis Seed Capital & BBooster.\n12:45 Foro de inversión: Pitch de proyectos.\n13:15 Networking\n\nLa asistencia al Foro está destinada preferentemente a posibles inversores y las plazas son limitadas\, por lo que será imprescindible presentar la entrada para acceder al recinto.\n\n\nSi eres inversor y deseas asistir al foro\, por favor confirma tu asistencia inscribiéndote al evento.\n\n\nPlataforma GoEmprende Business Angels: http://www.goemprende.com
URL:http://goemprende.com/eventos/foro-albacete/
LOCATION:Albacete\, Albacete\, España
ORGANIZER;CN="GoEmprende":MAILTO:info@goemprende.com
END:VEVENT
END:VCALENDAR